BEGIN:VCALENDAR
VERSION:2.0
PRODID:-//Gemeinde Hohenstein - ECPv6.15.20//NONSGML v1.0//EN
CALSCALE:GREGORIAN
METHOD:PUBLISH
X-WR-CALNAME:Gemeinde Hohenstein
X-ORIGINAL-URL:https://hohenstein-hessen.de
X-WR-CALDESC:Veranstaltungen für Gemeinde Hohenstein
REFRESH-INTERVAL;VALUE=DURATION:PT1H
X-Robots-Tag:noindex
X-PUBLISHED-TTL:PT1H
BEGIN:VTIMEZONE
TZID:Europe/Berlin
BEGIN:DAYLIGHT
TZOFFSETFROM:+0100
TZOFFSETTO:+0200
TZNAME:CEST
DTSTART:20250330T010000
END:DAYLIGHT
BEGIN:STANDARD
TZOFFSETFROM:+0200
TZOFFSETTO:+0100
TZNAME:CET
DTSTART:20251026T010000
END:STANDARD
BEGIN:DAYLIGHT
TZOFFSETFROM:+0100
TZOFFSETTO:+0200
TZNAME:CEST
DTSTART:20260329T010000
END:DAYLIGHT
BEGIN:STANDARD
TZOFFSETFROM:+0200
TZOFFSETTO:+0100
TZNAME:CET
DTSTART:20261025T010000
END:STANDARD
BEGIN:DAYLIGHT
TZOFFSETFROM:+0100
TZOFFSETTO:+0200
TZNAME:CEST
DTSTART:20270328T010000
END:DAYLIGHT
BEGIN:STANDARD
TZOFFSETFROM:+0200
TZOFFSETTO:+0100
TZNAME:CET
DTSTART:20271031T010000
END:STANDARD
END:VTIMEZONE
BEGIN:VEVENT
DTSTART;TZID=Europe/Berlin:20260424T180000
DTEND;TZID=Europe/Berlin:20260424T230000
DTSTAMP:20260424T132530
CREATED:20251219T095007Z
LAST-MODIFIED:20251219T095018Z
UID:12461-1777053600-1777071600@hohenstein-hessen.de
SUMMARY:Holdesser Weinstand
DESCRIPTION:wie immer – ab 18:00 Uhr\nAlte Schule\, Festerbachstraße 28\nKommen Sie und genießen ein Gläschen Wein mit\nalten und neuen Freunden in toller Atmosphäre!
URL:https://hohenstein-hessen.de/termin/holdesser-weinstand/
LOCATION:Alte Schule Holzhausen\, Festerbachstraße 28\, Hohenstein\, 65329
ATTACH;FMTTYPE=image/jpeg:https://hohenstein-hessen.de/wp-content/uploads/2025/12/Bild-Weinglaeser.jpg
END:VEVENT
END:VCALENDAR